BEGIN:VCALENDAR
VERSION:2.0
PRODID:-//TösterKultur e.V. - ECPv6.15.20//NONSGML v1.0//EN
CALSCALE:GREGORIAN
METHOD:PUBLISH
X-ORIGINAL-URL:https://toesterkultur.de
X-WR-CALDESC:Veranstaltungen für TösterKultur e.V.
REFRESH-INTERVAL;VALUE=DURATION:PT1H
X-Robots-Tag:noindex
X-PUBLISHED-TTL:PT1H
BEGIN:VTIMEZONE
TZID:Europe/Berlin
BEGIN:DAYLIGHT
TZOFFSETFROM:+0100
TZOFFSETTO:+0200
TZNAME:CEST
DTSTART:20220327T010000
END:DAYLIGHT
BEGIN:STANDARD
TZOFFSETFROM:+0200
TZOFFSETTO:+0100
TZNAME:CET
DTSTART:20221030T010000
END:STANDARD
BEGIN:DAYLIGHT
TZOFFSETFROM:+0100
TZOFFSETTO:+0200
TZNAME:CEST
DTSTART:20230326T010000
END:DAYLIGHT
BEGIN:STANDARD
TZOFFSETFROM:+0200
TZOFFSETTO:+0100
TZNAME:CET
DTSTART:20231029T010000
END:STANDARD
BEGIN:DAYLIGHT
TZOFFSETFROM:+0100
TZOFFSETTO:+0200
TZNAME:CEST
DTSTART:20240331T010000
END:DAYLIGHT
BEGIN:STANDARD
TZOFFSETFROM:+0200
TZOFFSETTO:+0100
TZNAME:CET
DTSTART:20241027T010000
END:STANDARD
END:VTIMEZONE
BEGIN:VEVENT
DTSTART;TZID=Europe/Berlin:20230827T170000
DTEND;TZID=Europe/Berlin:20230827T180000
DTSTAMP:20260424T145038
CREATED:20230717T110944Z
LAST-MODIFIED:20230717T111023Z
UID:3122-1693155600-1693159200@toesterkultur.de
SUMMARY:Klavierzeitreise
DESCRIPTION:Das drit­te Kon­zert unse­rer Rei­he Musik zum Leben 2023 bringt eine ein­drucks­vol­le Zeit­rei­se mit dem Kla­vier. Andy Mokrus wird mit Impro­vi­sa­tio­nen und Kom­po­si­tio­nen uns mit auf sei­ne Rei­se nehmen. \n 
URL:https://toesterkultur.de/event/klavierzeitreise/
LOCATION:Johan­nes­kir­che Tostedt\, Himmelsweg\, Tostedt\, Niedersachsen\, 21255\, Deutschland
CATEGORIES:Musik,Musik im Kirchenraum,Musik zum Leben
ATTACH;FMTTYPE=image/jpeg:https://toesterkultur.de/wp-content/uploads/2023/04/KURZLOGOMZL.jpg
END:VEVENT
END:VCALENDAR