BEGIN:VCALENDAR
VERSION:2.0
PRODID:-//TösterKultur e.V. - ECPv6.15.20//NONSGML v1.0//EN
CALSCALE:GREGORIAN
METHOD:PUBLISH
X-ORIGINAL-URL:https://toesterkultur.de
X-WR-CALDESC:Veranstaltungen für TösterKultur e.V.
REFRESH-INTERVAL;VALUE=DURATION:PT1H
X-Robots-Tag:noindex
X-PUBLISHED-TTL:PT1H
BEGIN:VTIMEZONE
TZID:Europe/Berlin
BEGIN:DAYLIGHT
TZOFFSETFROM:+0100
TZOFFSETTO:+0200
TZNAME:CEST
DTSTART:20240331T010000
END:DAYLIGHT
BEGIN:STANDARD
TZOFFSETFROM:+0200
TZOFFSETTO:+0100
TZNAME:CET
DTSTART:20241027T010000
END:STANDARD
BEGIN:DAYLIGHT
TZOFFSETFROM:+0100
TZOFFSETTO:+0200
TZNAME:CEST
DTSTART:20250330T010000
END:DAYLIGHT
BEGIN:STANDARD
TZOFFSETFROM:+0200
TZOFFSETTO:+0100
TZNAME:CET
DTSTART:20251026T010000
END:STANDARD
BEGIN:DAYLIGHT
TZOFFSETFROM:+0100
TZOFFSETTO:+0200
TZNAME:CEST
DTSTART:20260329T010000
END:DAYLIGHT
BEGIN:STANDARD
TZOFFSETFROM:+0200
TZOFFSETTO:+0100
TZNAME:CET
DTSTART:20261025T010000
END:STANDARD
END:VTIMEZONE
BEGIN:VEVENT
DTSTART;TZID=Europe/Berlin:20250816T180000
DTEND;TZID=Europe/Berlin:20250816T220000
DTSTAMP:20260423T111526
CREATED:20250809T094607Z
LAST-MODIFIED:20250809T094607Z
UID:4342-1755367200-1755381600@toesterkultur.de
SUMMARY:Sofakonzert Todtshorn
DESCRIPTION:
URL:https://toesterkultur.de/event/sofakonzert-todtshorn/
LOCATION:Dorf­ge­mein­schafts­haus in Groß Todtshorn\, Dorfstraße\, Todtshorn\, Niedersachsen\, 21255
ATTACH;FMTTYPE=image/jpeg:https://toesterkultur.de/wp-content/uploads/2024/05/Kulturraun-L.jpg
ORGANIZER;CN="T%C3%B6sterKultur e.V.":MAILTO:harry.kalinowsky@toesterkultur.de
END:VEVENT
END:VCALENDAR